BEGIN:VCALENDAR
VERSION:2.0
PRODID:-//ZContent.net//ZapCalLib 1.0//EN
CALSCALE:GREGORIAN
METHOD:PUBLISH
BEGIN:VEVENT
SUMMARY:Eine Radtour an der Lausitzer Neiße | Entlang der deutsch-polnisch
 en Grenze
DTSTART:20130818T093000
DTEND:20130824T170000
UID:2026-04-22-22-13-22-0-@calendar.boell.de
DTSTAMP:20260422T201322
DESCRIPTION:Landesstiftung Hamburg
END:VEVENT
END:VCALENDAR
