BEGIN:VCALENDAR
VERSION:2.0
PRODID:-//ZContent.net//ZapCalLib 1.0//EN
CALSCALE:GREGORIAN
METHOD:PUBLISH
BEGIN:VEVENT
SUMMARY:Bewegung im Kulturgebiet | Mit dem Rad durch den Ruhrpott
DTSTART:20130901T190000
DTEND:20130906T170000
UID:2026-04-23-20-25-00-0-@calendar.boell.de
DTSTAMP:20260423T182500
DESCRIPTION:Landesstiftung Hamburg
END:VEVENT
END:VCALENDAR
