BEGIN:VCALENDAR
VERSION:2.0
PRODID:-//ZContent.net//ZapCalLib 1.0//EN
CALSCALE:GREGORIAN
METHOD:PUBLISH
BEGIN:VEVENT
SUMMARY:Region Košice (Europäische Kulturhauptstadt 2013) | Reise in die 
 Heimat der Roma in der Ostslowakei
DTSTART:20131012T093000
DTEND:20131019T170000
UID:2021-12-02-01-52-40-0-@calendar.boell.de
DTSTAMP:20211202T005240
DESCRIPTION:Landesstiftung Hamburg
END:VEVENT
END:VCALENDAR
