BEGIN:VCALENDAR
VERSION:2.0
PRODID:-//ZContent.net//ZapCalLib 1.0//EN
CALSCALE:GREGORIAN
METHOD:PUBLISH
BEGIN:VEVENT
SUMMARY:Mexiko: Die Dinosaurier sind zurück | 
DTSTART:20130222T190000
DTEND:20130222T213000
UID:2021-12-02-01-52-39-0-@calendar.boell.de
DTSTAMP:20211202T005239
DESCRIPTION:Landesstiftung Berlin (Bildungswerk)
END:VEVENT
END:VCALENDAR
