BEGIN:VCALENDAR
VERSION:2.0
PRODID:-//ZContent.net//ZapCalLib 1.0//EN
CALSCALE:GREGORIAN
METHOD:PUBLISH
BEGIN:VEVENT
SUMMARY:Westsahara: Menschenrechte und Ressourcen | 
DTSTART:20130227T190000
DTEND:20130227T213000
UID:2021-12-02-01-52-27-0-@calendar.boell.de
DTSTAMP:20211202T005227
DESCRIPTION:Landesstiftung Berlin (Bildungswerk)
END:VEVENT
END:VCALENDAR
