BEGIN:VCALENDAR
VERSION:2.0
PRODID:-//ZContent.net//ZapCalLib 1.0//EN
CALSCALE:GREGORIAN
METHOD:PUBLISH
BEGIN:VEVENT
SUMMARY:Westsahara: Menschenrechte und Ressourcen (Planspiel) | 
DTSTART:20130302T110000
DTEND:20130302T170000
UID:2021-12-02-01-52-26-0-@calendar.boell.de
DTSTAMP:20211202T005226
DESCRIPTION:Landesstiftung Berlin (Bildungswerk)
END:VEVENT
END:VCALENDAR
