BEGIN:VCALENDAR
VERSION:2.0
PRODID:-//ZContent.net//ZapCalLib 1.0//EN
CALSCALE:GREGORIAN
METHOD:PUBLISH
BEGIN:VEVENT
SUMMARY:- AUSGEBUCHT - Postkoloniale Perspektiven auf Entwicklungszusammena
 rbeit | Schwarzsein und Weißsein am Beispiel der Entwicklungszusammenarbe
 it
DTSTART:20130309T110000
DTEND:20130309T180000
UID:2026-04-22-23-07-04-0-@calendar.boell.de
DTSTAMP:20260422T210704
DESCRIPTION:Landesstiftung Berlin (Bildungswerk)
END:VEVENT
END:VCALENDAR
