BEGIN:VCALENDAR
VERSION:2.0
PRODID:-//ZContent.net//ZapCalLib 1.0//EN
CALSCALE:GREGORIAN
METHOD:PUBLISH
BEGIN:VEVENT
SUMMARY:Mali: Ein zerfallender Staat?
DTSTART:20130412T190000
DTEND:20130412T213000
UID:2026-04-23-04-49-19-0-@calendar.boell.de
DTSTAMP:20260423T024919
DESCRIPTION:Landesstiftung Berlin (Bildungswerk)
END:VEVENT
END:VCALENDAR
