BEGIN:VCALENDAR
VERSION:2.0
PRODID:-//ZContent.net//ZapCalLib 1.0//EN
CALSCALE:GREGORIAN
METHOD:PUBLISH
BEGIN:VEVENT
SUMMARY:Die Welt zu Gast im Abschiebeknast | Das Flughafenverfahren am neue
 n Berliner Flughafen
DTSTART:20130417T190000
DTEND:20130417T223000
UID:2026-04-22-23-08-12-0-@calendar.boell.de
DTSTAMP:20260422T210812
DESCRIPTION:Landesstiftung Berlin (Bildungswerk)
END:VEVENT
END:VCALENDAR
