BEGIN:VCALENDAR
VERSION:2.0
PRODID:-//ZContent.net//ZapCalLib 1.0//EN
CALSCALE:GREGORIAN
METHOD:PUBLISH
BEGIN:VEVENT
SUMMARY:We love Kotti: Kreuzberger Kämpfe revisited | 
DTSTART:20130421T110000
DTEND:20130421T180000
UID:2021-12-02-01-52-25-0-@calendar.boell.de
DTSTAMP:20211202T005225
DESCRIPTION:Landesstiftung Berlin (Bildungswerk)
END:VEVENT
END:VCALENDAR
