BEGIN:VCALENDAR
VERSION:2.0
PRODID:-//ZContent.net//ZapCalLib 1.0//EN
CALSCALE:GREGORIAN
METHOD:PUBLISH
BEGIN:VEVENT
SUMMARY:Osttimor in der Unabhängigkeit | Ein junger Staat sucht seinen Weg
DTSTART:20130507T190000
DTEND:20130507T213000
UID:2026-04-23-11-06-31-0-@calendar.boell.de
DTSTAMP:20260423T090631
DESCRIPTION:Landesstiftung Berlin (Bildungswerk)
END:VEVENT
END:VCALENDAR
