BEGIN:VCALENDAR
VERSION:2.0
PRODID:-//ZContent.net//ZapCalLib 1.0//EN
CALSCALE:GREGORIAN
METHOD:PUBLISH
BEGIN:VEVENT
SUMMARY:Algerien: Bitte keine Revolution mehr? | 
DTSTART:20130614T190000
DTEND:20130614T213000
UID:2021-12-02-01-17-11-0-@calendar.boell.de
DTSTAMP:20211202T001711
DESCRIPTION:Landesstiftung Berlin (Bildungswerk)
END:VEVENT
END:VCALENDAR
