BEGIN:VCALENDAR
VERSION:2.0
PRODID:-//ZContent.net//ZapCalLib 1.0//EN
CALSCALE:GREGORIAN
METHOD:PUBLISH
BEGIN:VEVENT
SUMMARY:-AUSGEBUCHT- Israelbezogener Antisemitismus oder legitime Israelkri
 tik? | 
DTSTART:20130302T110000
DTEND:20130303T180000
UID:2021-12-02-01-17-01-0-@calendar.boell.de
DTSTAMP:20211202T001701
DESCRIPTION:Landesstiftung Berlin (Bildungswerk)
END:VEVENT
END:VCALENDAR
