BEGIN:VCALENDAR
VERSION:2.0
PRODID:-//ZContent.net//ZapCalLib 1.0//EN
CALSCALE:GREGORIAN
METHOD:PUBLISH
BEGIN:VEVENT
SUMMARY:-AUSGEBUCHT- Präsenztraining für Frauen | Workshop
DTSTART:20130413T100000
DTEND:20130414T170000
UID:2021-12-02-01-16-57-0-@calendar.boell.de
DTSTAMP:20211202T001657
DESCRIPTION:Landesstiftung Berlin (Bildungswerk)
END:VEVENT
END:VCALENDAR
