BEGIN:VCALENDAR
VERSION:2.0
PRODID:-//ZContent.net//ZapCalLib 1.0//EN
CALSCALE:GREGORIAN
METHOD:PUBLISH
BEGIN:VEVENT
SUMMARY:-AUSGEBUCHT- „Hart aber fair“ - Verhandeln nach der Harvard-Met
 hode | Workshop
DTSTART:20130524T180000
DTEND:20130526T180000
UID:2026-04-25-12-35-34-0-@calendar.boell.de
DTSTAMP:20260425T103534
DESCRIPTION:Landesstiftung Berlin (Bildungswerk)
END:VEVENT
END:VCALENDAR
