BEGIN:VCALENDAR
VERSION:2.0
PRODID:-//ZContent.net//ZapCalLib 1.0//EN
CALSCALE:GREGORIAN
METHOD:PUBLISH
BEGIN:VEVENT
SUMMARY:Rechtsprechung in Israel | 
DTSTART:20130417T190000
DTEND:20130417T210000
UID:2021-12-02-01-15-30-0-@calendar.boell.de
DTSTAMP:20211202T001530
DESCRIPTION:Landesstiftung Berlin (Bildungswerk)
END:VEVENT
END:VCALENDAR
