BEGIN:VCALENDAR
VERSION:2.0
PRODID:-//ZContent.net//ZapCalLib 1.0//EN
CALSCALE:GREGORIAN
METHOD:PUBLISH
BEGIN:VEVENT
SUMMARY: Theorien alternativen Wirtschaftens | Reihe ` Überlebenskünstler
 innen?`
DTSTART:20130320T190000
DTEND:20130320T210000
UID:2026-04-22-21-27-22-0-@calendar.boell.de
DTSTAMP:20260422T192722
DESCRIPTION:Landesstiftung Berlin (Bildungswerk)
END:VEVENT
END:VCALENDAR
