BEGIN:VCALENDAR
VERSION:2.0
PRODID:-//ZContent.net//ZapCalLib 1.0//EN
CALSCALE:GREGORIAN
METHOD:PUBLISH
BEGIN:VEVENT
SUMMARY:`Halbinseln gegen den Strom. Anders leben und wirtschaften im Allta
 g` | Reihe `Überlebenskünstlerinnen?`
DTSTART:20130424T190000
DTEND:20130424T210000
UID:2021-12-02-01-15-18-0-@calendar.boell.de
DTSTAMP:20211202T001518
DESCRIPTION:Landesstiftung Berlin (Bildungswerk)
END:VEVENT
END:VCALENDAR
