BEGIN:VCALENDAR
VERSION:2.0
PRODID:-//ZContent.net//ZapCalLib 1.0//EN
CALSCALE:GREGORIAN
METHOD:PUBLISH
BEGIN:VEVENT
SUMMARY: „Dickes Bee Food Cooperative“ - Erzählcafé | Reihe `Überleb
 enskünstlerinnen?`
DTSTART:20130503T190000
DTEND:20130503T210000
UID:2026-04-23-01-51-09-0-@calendar.boell.de
DTSTAMP:20260422T235109
DESCRIPTION:Landesstiftung Berlin (Bildungswerk)
END:VEVENT
END:VCALENDAR
