BEGIN:VCALENDAR
VERSION:2.0
PRODID:-//ZContent.net//ZapCalLib 1.0//EN
CALSCALE:GREGORIAN
METHOD:PUBLISH
BEGIN:VEVENT
SUMMARY:Lesbisches Leben in Berlin - gestern und heute:  „Die wilden zwan
 ziger Jahre“ | 
DTSTART:20130214T200000
DTEND:20130214T220000
UID:2021-12-02-01-15-32-0-@calendar.boell.de
DTSTAMP:20211202T001532
DESCRIPTION:Landesstiftung Berlin (Bildungswerk)
END:VEVENT
END:VCALENDAR
