BEGIN:VCALENDAR
VERSION:2.0
PRODID:-//ZContent.net//ZapCalLib 1.0//EN
CALSCALE:GREGORIAN
METHOD:PUBLISH
BEGIN:VEVENT
SUMMARY:Lesbisches Leben in Berlin - gestern und heute: Homosexuelle Räume
  in Berlin | „Lesbisches Leben, lesbische Orte heute: Homosexuelle Räum
 e in Berlin“
DTSTART:20130225T200000
DTEND:20130225T220000
UID:2026-04-22-23-00-16-0-@calendar.boell.de
DTSTAMP:20260422T210016
DESCRIPTION:Landesstiftung Berlin (Bildungswerk)
END:VEVENT
END:VCALENDAR
