BEGIN:VCALENDAR
VERSION:2.0
PRODID:-//ZContent.net//ZapCalLib 1.0//EN
CALSCALE:GREGORIAN
METHOD:PUBLISH
BEGIN:VEVENT
SUMMARY:Lesbisches Leben in Berlin - gestern und heute: „Lesbische Musike
 rinnen in Berlin“ | 
DTSTART:20130318T200000
DTEND:20130318T220000
UID:2021-12-02-01-15-15-0-@calendar.boell.de
DTSTAMP:20211202T001515
DESCRIPTION:Landesstiftung Berlin (Bildungswerk)
END:VEVENT
END:VCALENDAR
