BEGIN:VCALENDAR
VERSION:2.0
PRODID:-//ZContent.net//ZapCalLib 1.0//EN
CALSCALE:GREGORIAN
METHOD:PUBLISH
BEGIN:VEVENT
SUMMARY:Lesbisches Leben in Berlin - gestern und heute: „Lesbische Comedi
 en in Berlin“ | 
DTSTART:20130429T200000
DTEND:20130429T220000
UID:2021-12-02-01-15-28-0-@calendar.boell.de
DTSTAMP:20211202T001528
DESCRIPTION:Landesstiftung Berlin (Bildungswerk)
END:VEVENT
END:VCALENDAR
