BEGIN:VCALENDAR
VERSION:2.0
PRODID:-//ZContent.net//ZapCalLib 1.0//EN
CALSCALE:GREGORIAN
METHOD:PUBLISH
BEGIN:VEVENT
SUMMARY:Wachstum - (nicht mehr) über alles? | Reihe `Das Unbehagen in der 
 Kultur des Spätkapitalismus`
DTSTART:20130306T200000
DTEND:20130306T220000
UID:2026-04-23-12-26-11-0-@calendar.boell.de
DTSTAMP:20260423T102611
DESCRIPTION:Landesstiftung Berlin (Bildungswerk)
END:VEVENT
END:VCALENDAR
