BEGIN:VCALENDAR
VERSION:2.0
PRODID:-//ZContent.net//ZapCalLib 1.0//EN
CALSCALE:GREGORIAN
METHOD:PUBLISH
BEGIN:VEVENT
SUMMARY:Destruktive Kooperation – ein scheiternder Geist des Kapitalismus
 ? | Reihe `Das Unbehagen in der Kultur des Spätkapitalismus`
DTSTART:20130320T200000
DTEND:20130320T220000
UID:2021-12-02-01-14-59-0-@calendar.boell.de
DTSTAMP:20211202T001459
DESCRIPTION:Landesstiftung Berlin (Bildungswerk)
END:VEVENT
END:VCALENDAR
