BEGIN:VCALENDAR
VERSION:2.0
PRODID:-//ZContent.net//ZapCalLib 1.0//EN
CALSCALE:GREGORIAN
METHOD:PUBLISH
BEGIN:VEVENT
SUMMARY:Leben wir in der Postdemokratie? Zu Colin Crouchs Diagnose der poli
 tischen Kultur | Reihe `Das Unbehagen in der Kultur des Spätkapitalismus`
DTSTART:20130403T200000
DTEND:20130403T220000
UID:2026-04-22-21-26-52-0-@calendar.boell.de
DTSTAMP:20260422T192652
DESCRIPTION:Landesstiftung Berlin (Bildungswerk)
END:VEVENT
END:VCALENDAR
