BEGIN:VCALENDAR
VERSION:2.0
PRODID:-//ZContent.net//ZapCalLib 1.0//EN
CALSCALE:GREGORIAN
METHOD:PUBLISH
BEGIN:VEVENT
SUMMARY:Die allerneueste Gesellschaft des Spektakels | Reihe `Das Unbehagen
  in der Kultur des Spätkapitalismus`
DTSTART:20130417T200000
DTEND:20130417T220000
UID:2026-04-23-01-51-43-0-@calendar.boell.de
DTSTAMP:20260422T235143
DESCRIPTION:Landesstiftung Berlin (Bildungswerk)
END:VEVENT
END:VCALENDAR
