BEGIN:VCALENDAR
VERSION:2.0
PRODID:-//ZContent.net//ZapCalLib 1.0//EN
CALSCALE:GREGORIAN
METHOD:PUBLISH
BEGIN:VEVENT
SUMMARY: “Heinrich Böll - Leben und Werk” Ausstellungseröffnung und P
 räsentation von Texten der Schreibwerkstatt | 
DTSTART:20130214T170000
DTEND:20130214T210000
UID:2021-12-02-01-14-54-0-@calendar.boell.de
DTSTAMP:20211202T001454
DESCRIPTION:Landesstiftung Thüringen
END:VEVENT
END:VCALENDAR
