BEGIN:VCALENDAR
VERSION:2.0
PRODID:-//ZContent.net//ZapCalLib 1.0//EN
CALSCALE:GREGORIAN
METHOD:PUBLISH
BEGIN:VEVENT
SUMMARY:Konfliktmanagement | Konflikte als Chance
DTSTART:20130419T093000
DTEND:20130420T170000
UID:2026-04-23-00-22-14-0-@calendar.boell.de
DTSTAMP:20260422T222214
DESCRIPTION:Landesstiftung Hamburg
END:VEVENT
END:VCALENDAR
