BEGIN:VCALENDAR
VERSION:2.0
PRODID:-//ZContent.net//ZapCalLib 1.0//EN
CALSCALE:GREGORIAN
METHOD:PUBLISH
BEGIN:VEVENT
SUMMARY:Cash for Action: Finanzierung feministischer Zivilgesellschaft sich
 ern | Leitfaden "Fundraising für feministische Organisationen"
DTSTART:20260601T170000
DTEND:20260601T183000
UID:2026-04-21-23-45-39-0-@calendar.boell.de
DTSTAMP:20260421T214539
DESCRIPTION:▶ Online-Veranstaltung – Heinrich-Böll-Stiftung: Feminism 
 & Gender Democracy | Global Unit
END:VEVENT
END:VCALENDAR
