BEGIN:VCALENDAR
VERSION:2.0
PRODID:-//ZContent.net//ZapCalLib 1.0//EN
CALSCALE:GREGORIAN
METHOD:PUBLISH
BEGIN:VEVENT
SUMMARY:Heizungsgesetz abschaffen? Die Zukunft der Wärmewende
DTSTART:20260520T163000
DTEND:20260520T180000
UID:2026-04-26-06-14-57-0-@calendar.boell.de
DTSTAMP:20260426T041457
DESCRIPTION:▶ Online-Veranstaltung – Heinrich-Böll-Stiftung - Bundesst
 iftung Berlin
END:VEVENT
END:VCALENDAR
