BEGIN:VCALENDAR
VERSION:2.0
PRODID:-//ZContent.net//ZapCalLib 1.0//EN
CALSCALE:GREGORIAN
METHOD:PUBLISH
BEGIN:VEVENT
SUMMARY:Requiem in Weiß - Das würdelose Sterben unserer Gletscher | Film 
 in Dresden
DTSTART:20260626T170000
DTEND:20260626T181500
UID:2026-04-23-18-31-11-0-@calendar.boell.de
DTSTAMP:20260423T163111
DESCRIPTION:Externe Veranstaltung
END:VEVENT
END:VCALENDAR
