BEGIN:VCALENDAR
VERSION:2.0
PRODID:-//ZContent.net//ZapCalLib 1.0//EN
CALSCALE:GREGORIAN
METHOD:PUBLISH
BEGIN:VEVENT
SUMMARY:…im Frühling hat man keine Lust zu sterben! | Abschiedsbriefe vo
 n Frauen aus der Todeszelle (1943–1945)
DTSTART:20260508T200000
DTEND:20260508T213000
UID:2026-04-24-03-25-45-0-@calendar.boell.de
DTSTAMP:20260424T012545
DESCRIPTION:▶ Siehe Veranstaltungsbeschreibung – Salzwedel – Landesst
 iftung Sachsen-Anhalt
END:VEVENT
END:VCALENDAR
