BEGIN:VCALENDAR
VERSION:2.0
PRODID:-//ZContent.net//ZapCalLib 1.0//EN
CALSCALE:GREGORIAN
METHOD:PUBLISH
BEGIN:VEVENT
SUMMARY:Wer erschoss Michèle Kiesewetter?
DTSTART:20260617T190000
DTEND:20260617T203000
UID:2026-04-23-16-43-48-0-@calendar.boell.de
DTSTAMP:20260423T144348
DESCRIPTION:Stuttgart – Heinrich Böll Stiftung Baden-Württemberg
END:VEVENT
END:VCALENDAR
