BEGIN:VCALENDAR
VERSION:2.0
PRODID:-//ZContent.net//ZapCalLib 1.0//EN
CALSCALE:GREGORIAN
METHOD:PUBLISH
BEGIN:VEVENT
SUMMARY:Engagiert und nicht neutral | Zum Mythos des NeutralitĂ¤tsgebots fĂ
 Ľr Vereine
DTSTART:20260507T120000
DTEND:20260507T133000
UID:2026-04-23-01-52-25-0-@calendar.boell.de
DTSTAMP:20260422T235225
DESCRIPTION:â–¶ Online-Veranstaltung â€“ Landesstiftung Hamburg
END:VEVENT
END:VCALENDAR
