BEGIN:VCALENDAR
VERSION:2.0
PRODID:-//ZContent.net//ZapCalLib 1.0//EN
CALSCALE:GREGORIAN
METHOD:PUBLISH
BEGIN:VEVENT
SUMMARY:Saat.1 - Quizshow zu Saatgutsouveränität und Sortenvielfalt  | Ei
 n Workshop im Rahmen des Vitopia-Pflanzenflohmarktes
DTSTART:20260425T150000
DTEND:20260425T160000
UID:2026-04-23-18-31-17-0-@calendar.boell.de
DTSTAMP:20260423T163117
DESCRIPTION:Magdeburg – Landesstiftung Sachsen-Anhalt
END:VEVENT
END:VCALENDAR
