BEGIN:VCALENDAR
VERSION:2.0
PRODID:-//ZContent.net//ZapCalLib 1.0//EN
CALSCALE:GREGORIAN
METHOD:PUBLISH
BEGIN:VEVENT
SUMMARY:…im Frühling hat man keine Lust zu sterben!  | Abschiedsbriefe v
 on Frauen aus der Todeszelle (1943–1945)
DTSTART:20260818T074500
DTEND:20260818T091500
UID:2026-04-24-15-39-38-0-@calendar.boell.de
DTSTAMP:20260424T133938
DESCRIPTION:▶ Siehe Veranstaltungsbeschreibung – Dessau – Landesstift
 ung Sachsen-Anhalt
END:VEVENT
END:VCALENDAR
