BEGIN:VCALENDAR
VERSION:2.0
PRODID:-//ZContent.net//ZapCalLib 1.0//EN
CALSCALE:GREGORIAN
METHOD:PUBLISH
BEGIN:VEVENT
SUMMARY:Chef*in der Fraktion  | Der Fraktionsvorsitz – Rolle, Aufgaben un
 d Handwerkszeug
DTSTART:20260704T130000
DTEND:20260704T180000
UID:2026-04-23-11-52-46-0-@calendar.boell.de
DTSTAMP:20260423T095246
DESCRIPTION:Augsburg – Petra-Kelly-Stiftung
END:VEVENT
END:VCALENDAR
