BEGIN:VCALENDAR
VERSION:2.0
PRODID:-//ZContent.net//ZapCalLib 1.0//EN
CALSCALE:GREGORIAN
METHOD:PUBLISH
BEGIN:VEVENT
SUMMARY:Ostsee – Wie geht’s? | Multimediale Buchvorstellung mit Ramon G
 erwien
DTSTART:20260520T190000
DTEND:20260520T203000
UID:2026-04-23-17-57-03-0-@calendar.boell.de
DTSTAMP:20260423T155703
DESCRIPTION:▶ Siehe Veranstaltungsbeschreibung – Schwerin – Landessti
 ftung Mecklenburg-Vorpommern
END:VEVENT
END:VCALENDAR
