BEGIN:VCALENDAR
VERSION:2.0
PRODID:-//ZContent.net//ZapCalLib 1.0//EN
CALSCALE:GREGORIAN
METHOD:PUBLISH
BEGIN:VEVENT
SUMMARY:Extremwetterlagen - Reportagen aus einem neuen Deutschland
DTSTART:20260429T183000
DTEND:20260429T204500
UID:2026-04-26-04-41-12-0-@calendar.boell.de
DTSTAMP:20260426T024112
DESCRIPTION:Celle – Stiftung Leben & Umwelt / Heinrich-Böll-Stiftung Nie
 dersachsen
END:VEVENT
END:VCALENDAR
