BEGIN:VCALENDAR
VERSION:2.0
PRODID:-//ZContent.net//ZapCalLib 1.0//EN
CALSCALE:GREGORIAN
METHOD:PUBLISH
BEGIN:VEVENT
SUMMARY:…im Frühling hat man keine Lust zu sterben!  | Abschiedsbriefe v
 on Frauen aus der Todeszelle (1943–1945)
DTSTART:20260429T090000
DTEND:20260429T110000
UID:2026-04-24-01-39-20-0-@calendar.boell.de
DTSTAMP:20260423T233920
DESCRIPTION:▶ Siehe Veranstaltungsbeschreibung – Wernigerode – Landes
 stiftung Sachsen-Anhalt
END:VEVENT
END:VCALENDAR
