BEGIN:VCALENDAR
VERSION:2.0
PRODID:-//ZContent.net//ZapCalLib 1.0//EN
CALSCALE:GREGORIAN
METHOD:PUBLISH
BEGIN:VEVENT
SUMMARY:Kino Europa: Splitter aus Licht (Уламки Світла)
DTSTART:20260413T183000
DTEND:20260413T203000
UID:2026-04-25-02-37-27-0-@calendar.boell.de
DTSTAMP:20260425T003727
DESCRIPTION:München – Petra-Kelly-Stiftung
END:VEVENT
END:VCALENDAR
