BEGIN:VCALENDAR
VERSION:2.0
PRODID:-//ZContent.net//ZapCalLib 1.0//EN
CALSCALE:GREGORIAN
METHOD:PUBLISH
BEGIN:VEVENT
SUMMARY:History of Environmental Movements in Eastern and Southeast Europe 
  | 14th European History Forum 2026
DTSTART:20260521T100000
DTEND:20260522T120000
UID:2026-04-20-16-28-06-0-@calendar.boell.de
DTSTAMP:20260420T142806
DESCRIPTION:Heinrich-Böll-Stiftung - Bundesstiftung Berlin – Berlin – 
 Heinrich-Böll-Stiftung - Bundesstiftung Berlin
END:VEVENT
BEGIN:VEVENT
SUMMARY:History of Environmental Movements in Eastern and Southeast Europe 
  | 14th European History Forum 2026
DTSTART:20260521T100000
DTEND:20260521T200000
UID:2026-04-20-14-28-06-1-@calendar.boell.de
DTSTAMP:20260420T142806
DESCRIPTION:Heinrich-Böll-Stiftung - Bundesstiftung Berlin – Berlin – 
 Heinrich-Böll-Stiftung - Bundesstiftung Berlin
END:VEVENT
BEGIN:VEVENT
SUMMARY:History of Environmental Movements in Eastern and Southeast Europe 
  | 14th European History Forum 2026
DTSTART:20260522T100000
DTEND:20260522T120000
UID:2026-04-20-14-28-06-2-@calendar.boell.de
DTSTAMP:20260420T142806
DESCRIPTION:Heinrich-Böll-Stiftung - Bundesstiftung Berlin – Berlin – 
 Heinrich-Böll-Stiftung - Bundesstiftung Berlin
END:VEVENT
END:VCALENDAR
