BEGIN:VCALENDAR
VERSION:2.0
PRODID:-//ZContent.net//ZapCalLib 1.0//EN
CALSCALE:GREGORIAN
METHOD:PUBLISH
BEGIN:VEVENT
SUMMARY:Heimat in der Zukunft  | Wovon träumst Du?
DTSTART:20260414T160000
DTEND:20260414T190000
UID:2026-04-24-19-10-16-0-@calendar.boell.de
DTSTAMP:20260424T171016
DESCRIPTION:▶ Siehe Veranstaltungsbeschreibung – Hamburg – Landesstif
 tung Hamburg
END:VEVENT
END:VCALENDAR
