BEGIN:VCALENDAR
VERSION:2.0
PRODID:-//ZContent.net//ZapCalLib 1.0//EN
CALSCALE:GREGORIAN
METHOD:PUBLISH
BEGIN:VEVENT
SUMMARY:Böll-Montagskino "Cycling Cities"
DTSTART:20260427T190000
DTEND:20260427T211500
UID:2026-04-21-15-23-24-0-@calendar.boell.de
DTSTAMP:20260421T132324
DESCRIPTION:▶ Siehe Veranstaltungsbeschreibung – Rostock – Landesstif
 tung Mecklenburg-Vorpommern
END:VEVENT
END:VCALENDAR
