BEGIN:VCALENDAR
VERSION:2.0
PRODID:-//ZContent.net//ZapCalLib 1.0//EN
CALSCALE:GREGORIAN
METHOD:PUBLISH
BEGIN:VEVENT
SUMMARY:Der Politische Salon im Kultur: Haus Dacheröden | Energiewende
DTSTART:20260428T173000
DTEND:20260428T193000
UID:2026-04-24-12-26-54-0-@calendar.boell.de
DTSTAMP:20260424T102654
DESCRIPTION:Erfurt – Landesstiftung Thüringen
END:VEVENT
END:VCALENDAR
