BEGIN:VCALENDAR
VERSION:2.0
PRODID:-//ZContent.net//ZapCalLib 1.0//EN
CALSCALE:GREGORIAN
METHOD:PUBLISH
BEGIN:VEVENT
SUMMARY:Comic-Ausstellung WIE GEHT ES DIR? Zeichner*innen gegen Antisemitis
 mus, Hass und Rassismus | Eröffnung und Ausstellung bis September bis Okt
 ober in Reutlingen
DTSTART:20260922T090000
DTEND:20261024T140000
UID:2026-04-22-06-42-51-0-@calendar.boell.de
DTSTAMP:20260422T044251
DESCRIPTION:Heinrich Böll Stiftung Baden-Württemberg
END:VEVENT
END:VCALENDAR
