BEGIN:VCALENDAR
VERSION:2.0
PRODID:-//ZContent.net//ZapCalLib 1.0//EN
CALSCALE:GREGORIAN
METHOD:PUBLISH
BEGIN:VEVENT
SUMMARY:Mut-Muskel Workshop | Mit Aktionskunst Wut in Mut verwandeln
DTSTART:20260606T100000
DTEND:20260606T150000
UID:2026-04-25-03-08-22-0-@calendar.boell.de
DTSTAMP:20260425T010822
DESCRIPTION:Jena – Landesstiftung Thüringen
END:VEVENT
END:VCALENDAR
