BEGIN:VCALENDAR
VERSION:2.0
PRODID:-//ZContent.net//ZapCalLib 1.0//EN
CALSCALE:GREGORIAN
METHOD:PUBLISH
BEGIN:VEVENT
SUMMARY:FLINTA, Geld und Nachhaltigkeit – ein Einstieg | Online-Workshop 
 für FLINTA* (Frauen, Lesben, Inter-, Nichtbinäre, Trans- und Agender-Per
 sonen)
DTSTART:20260509T090000
DTEND:20260509T130000
UID:2026-04-23-17-21-30-0-@calendar.boell.de
DTSTAMP:20260423T152130
DESCRIPTION:▶ Online-Veranstaltung – 
END:VEVENT
END:VCALENDAR
