BEGIN:VCALENDAR
VERSION:2.0
PRODID:-//ZContent.net//ZapCalLib 1.0//EN
CALSCALE:GREGORIAN
METHOD:PUBLISH
BEGIN:VEVENT
SUMMARY:Jüdisches Leben im Bayerischen Viertel | Stadtspaziergang
DTSTART:20260510T150000
DTEND:20260510T173000
UID:2026-04-22-23-19-44-0-@calendar.boell.de
DTSTAMP:20260422T211944
DESCRIPTION:▶ Siehe Veranstaltungsbeschreibung – Landesstiftung Berlin 
 (Bildungswerk)
END:VEVENT
END:VCALENDAR
